Workbook
Name lo: Inputs!$B$5

Sheet Read Me
A1: EU Biogas Partial Budget Model Template
A2: MODEL SCENARIOS
A3: The model allows you to preselect scenarios, High, Base and Low or add your bespoke "Farmer Estimate"
A5: High: Provides an optimistic potential output, if outputs are high and costs can be kept to a minimum
A6: Low: Provides a pesimistic scenario where costs are higher than expected and revenues are less than expected
A7: Base: Provides a reasonable set of inputs and outputs that can then be adpated to the individual farm situation
A8: Farmer Estimate: Allows you to completely add and manipulate your own data. A starting point may be to scrutinise the values used in the base scearion and adapt to your own situation
A11: Colour key | B11: Meaning
B12: Editable scenario inputs – farmer can change | C12: We would suggest you leave the high, low and base scenario data as it is but utilsie the "farmer estimate" column to provide a bespoke farm scenario for your own farm
B13: Scenario selector – choose Base / Low / High/ Farmer Estimate
B14: Used in model – formula driven, do not edit
B15: Calculated outputs / quick checks
A18: Topic | B18: Notes | C18: Source / URL | D18: How to use
A19: Model purpose | B19: Illustrative partial budget model for anaerobic digestion / biogas establishment on an EU farm. This focusses on the production of biogas for use in CHP. Further cost estimates are needed if you intend to take the further step of biomethanation | D19: Replace all defaults with farm-specific quotes in the farmer estimate exemplar, using more farm specific tariffs, feedstock data and costs related to obtaining permits.
A20: EU biomethane/biogas context | B20: EU policy and biomethane context varies by Member State and in some cases by region. It can also change over time. | C20: https://energy.ec.europa.eu/topics/renewable-energy/bioenergy/biomethane_en | D20: Use this for policy context, not project-specific financial assumptions.
A21: Biogas and biomethane overview | B21: Background on biogas/biomethane production, feedstocks and market prospects. | C21: https://www.iea.org/reports/outlook-for-biogas-and-biomethane-prospects-for-organic-growth | D21: Use for background; use local quotes for prices/capex.
A22: Anaerobic digestion guidance | B22: Operational and environmental guidance should be checked locally. | C22: https://www.europeanbiogas.eu/ | D22: Check national biogas association, permitting body and grid operator requirements.
A23: Building your own case | B23: The Low/Base/High values are illustrative, not recommendations or forecasts. | C23: These values can be utilised to help produce your own "farmer estimate" scenario.
A25: Note: This partial budget is for illustrative purposes to give you some idea of whether further project development with a specialist advisor is worth taking forward
A28: Key Acronyms | B28: AD - Anaerobic Digester
B29: Capex - capital costs (building costs)
B30: CHP - Combined Heat and Power unit / generator
B31: KWh - Kilowatt hour
B32: NPV - Net Present Value
B33: Opex - operating costs
B34: O&M - Operating and Maintenance

Sheet Inputs
A1: EU Farm Biogas Plant – Partial Budget (Scenario) Template
A2: Edit yellow/blue cells only. Choose a scenario in B4 (Base/Low/High/Farmer Estimate). 'Used in model' updates automatically.
A3: Note the Farmer Estimate column allows the user to put in bespoke values of their own, which will then form a basis for the model.
A4: Note the period of analysis has been set in each sceanario for 25 years as an estimate of plant working life. You can change this if you wish.
A5: Scenario | B5: Base
A8: Variable | B8: Units | C8: Base | D8: Low | E8: High | F8: Farmer Estimate | G8: Used in model | H8: Notes | I8: Category
A9: Analysis period | B9: years | C9: 25 | D9: 25 | E9: 25 | F9: 25 | G9: =INDEX($C9:$F9,MATCH($B$5,{"Base","Low","High","Farmer Estimate"},0)) -> 25 | H9: How many years to model | I9: Model assumptions
A10: Economic Discount rate | B10: % | C10: 0.04 | D10: 0.03 | E10: 0.05 | F10: 0.06 | G10: =INDEX($C10:$F10,MATCH($B$5,{"Base","Low","High","Farmer Estimate"},0)) -> 0.04 | H10: Used for Net Present Value Calculation | I10: Model assumptions
A11: Electricity price escalation | B11: %/yr | C11: 0.03 | D11: 0.01 | E11: 0.06 | F11: 0.03 | G11: 0.03 | H11: Predicted annual increase in grid electricity price | I11: Model assumptions
A12: Export price escalation | B12: %/yr | C12: 0.02 | D12: 0 | E12: 0.05 | F12: 0.03 | G12: =INDEX($C12:$F12,MATCH($B$5,{"Base","Low","High","Farmer Estimate"},0)) -> 0.02 | H12: Predicted annual increase in export/feed-in price | I12: Model assumptions
A13: Heat/fuel price escalation | B13: %/yr | C13: 0.03 | D13: 0.01 | E13: 0.06 | F13: 0.04 | G13: =INDEX($C13:$F13,MATCH($B$5,{"Base","Low","High","Farmer Estimate"},0)) -> 0.03 | H13: Predicted annual increase in heating/fuel price | I13: Model assumptions
A14: O&M / cost escalation | B14: %/yr | C14: 0.03 | D14: 0.015 | E14: 0.06 | F14: 0.04 | G14: =INDEX($C14:$F14,MATCH($B$5,{"Base","Low","High","Farmer Estimate"},0)) -> 0.03 | H14: Predicted annual increase for operation and maintenance costs, labour and other recurring items | I14: Model assumptions
A15: Biogas output change | B15: %/yr | C15: 0 | D15: -0.01 | E15: 0.005 | F15: 0.01 | G15: =INDEX($C15:$F15,MATCH($B$5,{"Base","Low","High","Farmer Estimate"},0)) -> 0 | H15: Predicted annual performance change in kWh output | I15: Model assumptions
A16: Electrical capacity | B16: kW electric | C16: 250 | D16: 150 | E16: 500 | F16: 200 | G16: =INDEX($C16:$F16,MATCH($B$5,{"Base","Low","High","Farmer Estimate"},0)) -> 250 | H16: Combined Heat and Power generator electrical output capacity | I16: Plant and farm energy
A17: Full-load hours | B17: hours/year | C17: 7500 | D17: 6500 | E17: 8200 | F17: 7000 | G17: =INDEX($C17:$F17,MATCH($B$5,{"Base","Low","High","Farmer Estimate"},0)) -> 7500 | H17: Expected operating hours per year | I17: Plant and farm energy
A18: Electricity used on farm | B18: % of generation | C18: 0.6 | D18: 0.45 | E18: 0.75 | F18: 0.5 | G18: =INDEX($C18:$F18,MATCH($B$5,{"Base","Low","High","Farmer Estimate"},0)) -> 0.6 | H18: Share of generated electricity used on-farm | I18: Plant and farm energy
A19: Useful heat recovered | B19: kWh heat/year | C19: 400000 | D19: 200000 | E19: 900000 | F19: 500000 | G19: =INDEX($C19:$F19,MATCH($B$5,{"Base","Low","High","Farmer Estimate"},0)) -> 400000 | H19: Useful heat that can displace existing fuel use | I19: Plant and farm energy
A20: Current electricity purchased | B20: kWh/year | C20: 300000 | D20: 150000 | E20: 600000 | F20: 200000 | G20: =INDEX($C20:$F20,MATCH($B$5,{"Base","Low","High","Farmer Estimate"},0)) -> 300000 | H20: Baseline electricity purchase before biogas plant installed | I20: Plant and farm energy
A21: Current heat/fuel demand offset | B21: kWh/year | C21: 350000 | D21: 150000 | E21: 800000 | F21: 500000 | G21: =INDEX($C21:$F21,MATCH($B$5,{"Base","Low","High","Farmer Estimate"},0)) -> 350000 | H21: Baseline heat/fuel that biogas heat can replace once operational | I21: Plant and farm energy
A22: Avoided electricity purchase price | B22: €/kWh | C22: 0.23 | D22: 0.16 | E22: 0.32 | F22: 0.3 | G22: =INDEX($C22:$F22,MATCH($B$5,{"Base","Low","High","Farmer Estimate"},0)) -> 0.23 | H22: Farm electricity import price in Year 1 | I22: Benefits and revenue
A23: Export electricity / feed-in price | B23: €/kWh | C23: 0.09 | D23: 0.05 | E23: 0.14 | F23: 0.05 | G23: =INDEX($C23:$F23,MATCH($B$5,{"Base","Low","High","Farmer Estimate"},0)) -> 0.09 | H23: Price paid for exported electricity in Year 1 | I23: Benefits and revenue
... A40: Reduced existing returns | B40: €/year | C40: 0 | D40: 0 | E40: 50000 | F40: 30000 | G40: =INDEX($C40:$F40,MATCH($B$5,{"Base","Low","High","Farmer Estimate"},0)) -> 0 | H40: Income lost due to land/feedstock diversion or other effects | I40: Optional impacts
I41: Optional impacts
A43: Year 1 quick check (based on 'Used in model')
A45: Gross investment | B45: =G16*G33+G34+G36 -> 1450000 | C45: Total Capex cost estimates at the start of the project
A46: Grant amount | B46: =G35*(G16*G33+G34) -> 280000 | C46: This the calculated grant based on estimate of percentage grant as a percentage of total initial CAPEX
A47: Net upfront cost | B47: =B45-B46 -> 1170000 | C47: Net costs which is total capex minus any grants received
A48: Electricity generated (kWh) | B48: =G16*G17 -> 1875000 | C48: This is the electric capacity of the CHP multiplied by the number of hours per year being used at full capacity
A49: Self-used electricity (kWh) | B49: =MIN(B48*G18,G20) -> 300000 | C49: This is the amount of electricity that will be used internally on the farm in a given year
A50: Exported electricity (kWh) | B50: =MAX(B48-B49,0) -> 1575000 | C50: This the amount of electricity which is available for export [total production minus that which is used on farm]
A51: Useful heat offset (kWh) | B51: =MIN(G19,G21) -> 350000 | C51: The amount of heat produced by installed plant that can be used internally to offset previously purchased heat
A52: Electricity bill savings (€) | B52: =B49*G22 -> 69000 | C52: This is the amount of self used electricity multiplied by the price if that electric needed to be purchased on the open market
A53: Export electricity income (€) | B53: =B50*G23 -> 141750 | C53: This is the amount of exported electricity multiplied by the price per unit received for that exported electric
A54: Heat/fuel savings (€) | B54: =B51*G24 -> 24500 | C54: This is the amount of self used heat multiplied by the price per unit if that heat needed to be purchased on the open market
A55: Other annual benefits (€) | B55: =G25+G26+G27+G39 -> 75000 | C55: These are the culmination of additional benefits deriving from fees received for imported waste, the value of the digestate generated, additional feed-in premiums or other baseline costs avoided because of the project
A56: Added annual costs (€) | B56: =G28+(G16*G33+G34)*G29+G30+G31+G32 -> 187000 | C56: These are the total added cost of the project related to the cost of installed plant, grid connection costs, extra feedstock purchased, operation and maintenace costs, labour, insurance and digestate storage and spreading
A57: Reduced returns (€) | B57: =G40 -> 0 | C57: Income lost due to land/feedstock diversion or other effects
A58: Net annual change (Year 1) | B58: =SUM(B52:B55)-B56-B57 -> 123250 | C58: A summary of total additional revenue minus total additional costs
A60: ** Economic Discount Rate: | C60: The choice of this rate can make a significant difference to the projected profitability of a new enterprise. It will be important to get advice or consult the financial literature on what is a sensible rate to include in your calculations.
C61: At the time of writing 4% seems to provide a reasonable value, https://ansperformance.eu/economics/cba/standard-inputs/v9.0.3/chapters/discount_rate.html
...

Sheet Calculations
A1: Biogas plant annual cashflow calculations
A3: Year | B3: 0 | C3: 1 | D3: 2 | E3: 3 | F3: 4 | G3: 5 | H3: 6 | I3: 7 | J3: 8 | K3: 9 | L3: 10 | M3: 11 | N3: 12 | O3: 13 | P3: 14 | Q3: 15 | R3: 16 | S3: 17 | T3: 18 | U3: 19 | V3: 20 | W3: 21 | X3: 22 | Y3: 23 | Z3: 24 | AA3: 25
A4: Active year | B4: =B$3<=Inputs!$G$9 -> TRUE | C4: =C$3<=Inputs!$G$9 -> TRUE | D4: =D$3<=Inputs!$G$9 -> TRUE | E4: =E$3<=Inputs!$G$9 -> TRUE | F4: =F$3<=Inputs!$G$9 -> TRUE | G4: =G$3<=Inputs!$G$9 -> TRUE | H4: =H$3<=Inputs!$G$9 -> TRUE | I4: =I$3<=Inputs!$G$9 -> TRUE | ... AA4: =AA$3<=Inputs!$G$9 -> TRUE
A5: Electricity generated (kWh) | B5: =IF(AND(B$4,B$3>0),Inputs!$G$16*Inputs!$G$17*(1+Inputs!$G$15)^(B$3-1),0) -> 0 | C5: =IF(AND(C$4,C$3>0),Inputs!$G$16*Inputs!$G$17*(1+Inputs!$G$15)^(C$3-1),0) -> 1875000 | D5: =IF(AND(D$4,D$3>0),Inputs!$G$16*Inputs!$G$17*(1+Inputs!$G$15)^(D$3-1),0) -> 1875000 | E5: =IF(AND(E$4,E$3>0),Inputs!$G$16*Inputs!$G$17*(1+Inputs!$G$15)^(E$3-1),0) -> 1875000 | F5: =IF(AND(F$4,F$3>0),Inputs!$G$16*Inputs!$G$17*(1+Inputs!$G$15)^(F$3-1),0) -> 1875000 | G5: =IF(AND(G$4,G$3>0),Inputs!$G$16*Inputs!$G$17*(1+Inputs!$G$15)^(G$3-1),0) -> 1875000 | H5: =IF(AND(H$4,H$3>0),Inputs!$G$16*Inputs!$G$17*(1+Inputs!$G$15)^(H$3-1),0) -> 1875000 | I5: =IF(AND(I$4,I$3>0),Inputs!$G$16*Inputs!$G$17*(1+Inputs!$G$15)^(I$3-1),0) -> 1875000 | ... AA5: =IF(AND(AA$4,AA$3>0),Inputs!$G$16*Inputs!$G$17*(1+Inputs!$G$15)^(AA$3-1),0) -> 1875000
A6: Self-used electricity (kWh) | B6: =IF(AND(B$4,B$3>0),MIN(B5*Inputs!$G$18,Inputs!$G$20),0) -> 0 | C6: =IF(AND(C$4,C$3>0),MIN(C5*Inputs!$G$18,Inputs!$G$20),0) -> 300000 | D6: =IF(AND(D$4,D$3>0),MIN(D5*Inputs!$G$18,Inputs!$G$20),0) -> 300000 | E6: =IF(AND(E$4,E$3>0),MIN(E5*Inputs!$G$18,Inputs!$G$20),0) -> 300000 | F6: =IF(AND(F$4,F$3>0),MIN(F5*Inputs!$G$18,Inputs!$G$20),0) -> 300000 | G6: =IF(AND(G$4,G$3>0),MIN(G5*Inputs!$G$18,Inputs!$G$20),0) -> 300000 | H6: =IF(AND(H$4,H$3>0),MIN(H5*Inputs!$G$18,Inputs!$G$20),0) -> 300000 | I6: =IF(AND(I$4,I$3>0),MIN(I5*Inputs!$G$18,Inputs!$G$20),0) -> 300000 | ... AA6: =IF(AND(AA$4,AA$3>0),MIN(AA5*Inputs!$G$18,Inputs!$G$20),0) -> 300000
A7: Exported electricity (kWh) | B7: =IF(AND(B$4,B$3>0),MAX(B5-B6,0),0) -> 0 | C7: =IF(AND(C$4,C$3>0),MAX(C5-C6,0),0) -> 1575000 | D7: =IF(AND(D$4,D$3>0),MAX(D5-D6,0),0) -> 1575000 | E7: =IF(AND(E$4,E$3>0),MAX(E5-E6,0),0) -> 1575000 | F7: =IF(AND(F$4,F$3>0),MAX(F5-F6,0),0) -> 1575000 | G7: =IF(AND(G$4,G$3>0),MAX(G5-G6,0),0) -> 1575000 | H7: =IF(AND(H$4,H$3>0),MAX(H5-H6,0),0) -> 1575000 | I7: =IF(AND(I$4,I$3>0),MAX(I5-I6,0),0) -> 1575000 | ... AA7: =IF(AND(AA$4,AA$3>0),MAX(AA5-AA6,0),0) -> 1575000
A8: Useful heat offset (kWh) | B8: =IF(AND(B$4,B$3>0),MIN(Inputs!$G$19*(1+Inputs!$G$15)^(B$3-1),Inputs!$G$21),0) -> 0 | C8: =IF(AND(C$4,C$3>0),MIN(Inputs!$G$19*(1+Inputs!$G$15)^(C$3-1),Inputs!$G$21),0) -> 350000 | D8: =IF(AND(D$4,D$3>0),MIN(Inputs!$G$19*(1+Inputs!$G$15)^(D$3-1),Inputs!$G$21),0) -> 350000 | E8: =IF(AND(E$4,E$3>0),MIN(Inputs!$G$19*(1+Inputs!$G$15)^(E$3-1),Inputs!$G$21),0) -> 350000 | F8: =IF(AND(F$4,F$3>0),MIN(Inputs!$G$19*(1+Inputs!$G$15)^(F$3-1),Inputs!$G$21),0) -> 350000 | G8: =IF(AND(G$4,G$3>0),MIN(Inputs!$G$19*(1+Inputs!$G$15)^(G$3-1),Inputs!$G$21),0) -> 350000 | H8: =IF(AND(H$4,H$3>0),MIN(Inputs!$G$19*(1+Inputs!$G$15)^(H$3-1),Inputs!$G$21),0) -> 350000 | I8: =IF(AND(I$4,I$3>0),MIN(Inputs!$G$19*(1+Inputs!$G$15)^(I$3-1),Inputs!$G$21),0) -> 350000 | ... AA8: =IF(AND(AA$4,AA$3>0),MIN(Inputs!$G$19*(1+Inputs!$G$15)^(AA$3-1),Inputs!$G$21),0) -> 350000
A10: Electricity bill savings (€) | B10: =IF(AND(B$4,B$3>0),B6*Inputs!$G$22*(1+Inputs!$G$11)^(B$3-1),0) -> 0 | C10: =IF(AND(C$4,C$3>0),C6*Inputs!$G$22*(1+Inputs!$G$11)^(C$3-1),0) -> 69000 | D10: =IF(AND(D$4,D$3>0),D6*Inputs!$G$22*(1+Inputs!$G$11)^(D$3-1),0) -> 71070 | E10: =IF(AND(E$4,E$3>0),E6*Inputs!$G$22*(1+Inputs!$G$11)^(E$3-1),0) -> 73202.1 | F10: =IF(AND(F$4,F$3>0),F6*Inputs!$G$22*(1+Inputs!$G$11)^(F$3-1),0) -> 75398.163 | G10: =IF(AND(G$4,G$3>0),G6*Inputs!$G$22*(1+Inputs!$G$11)^(G$3-1),0) -> 77660.108 | H10: =IF(AND(H$4,H$3>0),H6*Inputs!$G$22*(1+Inputs!$G$11)^(H$3-1),0) -> 79989.911 | I10: =IF(AND(I$4,I$3>0),I6*Inputs!$G$22*(1+Inputs!$G$11)^(I$3-1),0) -> 82389.608 | ... AA10: =IF(AND(AA$4,AA$3>0),AA6*Inputs!$G$22*(1+Inputs!$G$11)^(AA$3-1),0) -> 140262.79
A11: Export electricity income (€) | B11: =IF(AND(B$4,B$3>0),B7*Inputs!$G$23*(1+Inputs!$G$12)^(B$3-1),0) -> 0 | C11: =IF(AND(C$4,C$3>0),C7*Inputs!$G$23*(1+Inputs!$G$12)^(C$3-1),0) -> 141750 | D11: =IF(AND(D$4,D$3>0),D7*Inputs!$G$23*(1+Inputs!$G$12)^(D$3-1),0) -> 144585 | E11: =IF(AND(E$4,E$3>0),E7*Inputs!$G$23*(1+Inputs!$G$12)^(E$3-1),0) -> 147476.7 | F11: =IF(AND(F$4,F$3>0),F7*Inputs!$G$23*(1+Inputs!$G$12)^(F$3-1),0) -> 150426.23 | G11: =IF(AND(G$4,G$3>0),G7*Inputs!$G$23*(1+Inputs!$G$12)^(G$3-1),0) -> 153434.76 | H11: =IF(AND(H$4,H$3>0),H7*Inputs!$G$23*(1+Inputs!$G$12)^(H$3-1),0) -> 156503.45 | I11: =IF(AND(I$4,I$3>0),I7*Inputs!$G$23*(1+Inputs!$G$12)^(I$3-1),0) -> 159633.52 | ... AA11: =IF(AND(AA$4,AA$3>0),AA7*Inputs!$G$23*(1+Inputs!$G$12)^(AA$3-1),0) -> 227995.98
A12: Heat/fuel savings (€) | B12: =IF(AND(B$4,B$3>0),B8*Inputs!$G$24*(1+Inputs!$G$13)^(B$3-1),0) -> 0 | C12: =IF(AND(C$4,C$3>0),C8*Inputs!$G$24*(1+Inputs!$G$13)^(C$3-1),0) -> 24500 | D12: =IF(AND(D$4,D$3>0),D8*Inputs!$G$24*(1+Inputs!$G$13)^(D$3-1),0) -> 25235 | E12: =IF(AND(E$4,E$3>0),E8*Inputs!$G$24*(1+Inputs!$G$13)^(E$3-1),0) -> 25992.05 | F12: =IF(AND(F$4,F$3>0),F8*Inputs!$G$24*(1+Inputs!$G$13)^(F$3-1),0) -> 26771.812 | G12: =IF(AND(G$4,G$3>0),G8*Inputs!$G$24*(1+Inputs!$G$13)^(G$3-1),0) -> 27574.966 | H12: =IF(AND(H$4,H$3>0),H8*Inputs!$G$24*(1+Inputs!$G$13)^(H$3-1),0) -> 28402.215 | I12: =IF(AND(I$4,I$3>0),I8*Inputs!$G$24*(1+Inputs!$G$13)^(I$3-1),0) -> 29254.281 | ... AA12: =IF(AND(AA$4,AA$3>0),AA8*Inputs!$G$24*(1+Inputs!$G$13)^(AA$3-1),0) -> 49803.456
A13: Gate fee income (€) | B13: =IF(AND(B$4,B$3>0),Inputs!$G$25*(1+Inputs!$G$14)^(B$3-1),0) -> 0 | C13: =IF(AND(C$4,C$3>0),Inputs!$G$25*(1+Inputs!$G$14)^(C$3-1),0) -> 25000 | D13: =IF(AND(D$4,D$3>0),Inputs!$G$25*(1+Inputs!$G$14)^(D$3-1),0) -> 25750 | E13: =IF(AND(E$4,E$3>0),Inputs!$G$25*(1+Inputs!$G$14)^(E$3-1),0) -> 26522.5 | F13: =IF(AND(F$4,F$3>0),Inputs!$G$25*(1+Inputs!$G$14)^(F$3-1),0) -> 27318.175 | G13: =IF(AND(G$4,G$3>0),Inputs!$G$25*(1+Inputs!$G$14)^(G$3-1),0) -> 28137.72 | H13: =IF(AND(H$4,H$3>0),Inputs!$G$25*(1+Inputs!$G$14)^(H$3-1),0) -> 28981.852 | I13: =IF(AND(I$4,I$3>0),Inputs!$G$25*(1+Inputs!$G$14)^(I$3-1),0) -> 29851.307 | ... AA13: =IF(AND(AA$4,AA$3>0),Inputs!$G$25*(1+Inputs!$G$14)^(AA$3-1),0) -> 50819.853
A14: Digestate nutrient value (€) | B14: =IF(AND(B$4,B$3>0),Inputs!$G$26*(1+Inputs!$G$14)^(B$3-1),0) -> 0 | C14: =IF(AND(C$4,C$3>0),Inputs!$G$26*(1+Inputs!$G$14)^(C$3-1),0) -> 30000 | D14: =IF(AND(D$4,D$3>0),Inputs!$G$26*(1+Inputs!$G$14)^(D$3-1),0) -> 30900 | E14: =IF(AND(E$4,E$3>0),Inputs!$G$26*(1+Inputs!$G$14)^(E$3-1),0) -> 31827 | F14: =IF(AND(F$4,F$3>0),Inputs!$G$26*(1+Inputs!$G$14)^(F$3-1),0) -> 32781.81 | G14: =IF(AND(G$4,G$3>0),Inputs!$G$26*(1+Inputs!$G$14)^(G$3-1),0) -> 33765.264 | H14: =IF(AND(H$4,H$3>0),Inputs!$G$26*(1+Inputs!$G$14)^(H$3-1),0) -> 34778.222 | I14: =IF(AND(I$4,I$3>0),Inputs!$G$26*(1+Inputs!$G$14)^(I$3-1),0) -> 35821.569 | ... AA14: =IF(AND(AA$4,AA$3>0),Inputs!$G$26*(1+Inputs!$G$14)^(AA$3-1),0) -> 60983.823
A15: Other support / premium (€) | B15: =IF(AND(B$4,B$3>0),Inputs!$G$27*(1+Inputs!$G$14)^(B$3-1),0) -> 0 | C15: =IF(AND(C$4,C$3>0),Inputs!$G$27*(1+Inputs!$G$14)^(C$3-1),0) -> 20000 | D15: =IF(AND(D$4,D$3>0),Inputs!$G$27*(1+Inputs!$G$14)^(D$3-1),0) -> 20600 | E15: =IF(AND(E$4,E$3>0),Inputs!$G$27*(1+Inputs!$G$14)^(E$3-1),0) -> 21218 | F15: =IF(AND(F$4,F$3>0),Inputs!$G$27*(1+Inputs!$G$14)^(F$3-1),0) -> 21854.54 | G15: =IF(AND(G$4,G$3>0),Inputs!$G$27*(1+Inputs!$G$14)^(G$3-1),0) -> 22510.176 | H15: =IF(AND(H$4,H$3>0),Inputs!$G$27*(1+Inputs!$G$14)^(H$3-1),0) -> 23185.481 | I15: =IF(AND(I$4,I$3>0),Inputs!$G$27*(1+Inputs!$G$14)^(I$3-1),0) -> 23881.046 | ... AA15: =IF(AND(AA$4,AA$3>0),Inputs!$G$27*(1+Inputs!$G$14)^(AA$3-1),0) -> 40655.882
A16: Reduced existing costs (€) | B16: =IF(AND(B$4,B$3>0),Inputs!$G$39*(1+Inputs!$G$14)^(B$3-1),0) -> 0 | C16: =IF(AND(C$4,C$3>0),Inputs!$G$39*(1+Inputs!$G$14)^(C$3-1),0) -> 0 | D16: =IF(AND(D$4,D$3>0),Inputs!$G$39*(1+Inputs!$G$14)^(D$3-1),0) -> 0 | E16: =IF(AND(E$4,E$3>0),Inputs!$G$39*(1+Inputs!$G$14)^(E$3-1),0) -> 0 | F16: =IF(AND(F$4,F$3>0),Inputs!$G$39*(1+Inputs!$G$14)^(F$3-1),0) -> 0 | G16: =IF(AND(G$4,G$3>0),Inputs!$G$39*(1+Inputs!$G$14)^(G$3-1),0) -> 0 | H16: =IF(AND(H$4,H$3>0),Inputs!$G$39*(1+Inputs!$G$14)^(H$3-1),0) -> 0 | I16: =IF(AND(I$4,I$3>0),Inputs!$G$39*(1+Inputs!$G$14)^(I$3-1),0) -> 0 | ... AA16: =IF(AND(AA$4,AA$3>0),Inputs!$G$39*(1+Inputs!$G$14)^(AA$3-1),0) -> 0
A17: Total benefits (€) | B17: =SUM(B10:B16) -> 0 | C17: =SUM(C10:C16) -> 310250 | D17: =SUM(D10:D16) -> 318140 | E17: =SUM(E10:E16) -> 326238.35 | F17: =SUM(F10:F16) -> 334550.73 | G17: =SUM(G10:G16) -> 343082.99 | H17: =SUM(H10:H16) -> 351841.14 | I17: =SUM(I10:I16) -> 360831.33 | ... AA17: =SUM(AA10:AA16) -> 570521.79
A19: Feedstock cost (€) | B19: =IF(AND(B$4,B$3>0),Inputs!$G$28*(1+Inputs!$G$14)^(B$3-1),0) -> 0 | C19: =IF(AND(C$4,C$3>0),Inputs!$G$28*(1+Inputs!$G$14)^(C$3-1),0) -> 50000 | D19: =IF(AND(D$4,D$3>0),Inputs!$G$28*(1+Inputs!$G$14)^(D$3-1),0) -> 51500 | E19: =IF(AND(E$4,E$3>0),Inputs!$G$28*(1+Inputs!$G$14)^(E$3-1),0) -> 53045 | F19: =IF(AND(F$4,F$3>0),Inputs!$G$28*(1+Inputs!$G$14)^(F$3-1),0) -> 54636.35 | G19: =IF(AND(G$4,G$3>0),Inputs!$G$28*(1+Inputs!$G$14)^(G$3-1),0) -> 56275.44 | H19: =IF(AND(H$4,H$3>0),Inputs!$G$28*(1+Inputs!$G$14)^(H$3-1),0) -> 57963.704 | I19: =IF(AND(I$4,I$3>0),Inputs!$G$28*(1+Inputs!$G$14)^(I$3-1),0) -> 59702.615 | ... AA19: =IF(AND(AA$4,AA$3>0),Inputs!$G$28*(1+Inputs!$G$14)^(AA$3-1),0) -> 101639.71
A20: O&M cost (€) | B20: =IF(AND(B$4,B$3>0),(Inputs!$G$16*Inputs!$G$33+Inputs!$G$34)*Inputs!$G$29*(1+Inputs!$G$14)^(B$3-1),0) -> 0 | C20: =IF(AND(C$4,C$3>0),(Inputs!$G$16*Inputs!$G$33+Inputs!$G$34)*Inputs!$G$29*(1+Inputs!$G$14)^(C$3-1),0) -> 70000 | D20: =IF(AND(D$4,D$3>0),(Inputs!$G$16*Inputs!$G$33+Inputs!$G$34)*Inputs!$G$29*(1+Inputs!$G$14)^(D$3-1),0) -> 72100 | E20: =IF(AND(E$4,E$3>0),(Inputs!$G$16*Inputs!$G$33+Inputs!$G$34)*Inputs!$G$29*(1+Inputs!$G$14)^(E$3-1),0) -> 74263 | F20: =IF(AND(F$4,F$3>0),(Inputs!$G$16*Inputs!$G$33+Inputs!$G$34)*Inputs!$G$29*(1+Inputs!$G$14)^(F$3-1),0) -> 76490.89 | G20: =IF(AND(G$4,G$3>0),(Inputs!$G$16*Inputs!$G$33+Inputs!$G$34)*Inputs!$G$29*(1+Inputs!$G$14)^(G$3-1),0) -> 78785.617 | H20: =IF(AND(H$4,H$3>0),(Inputs!$G$16*Inputs!$G$33+Inputs!$G$34)*Inputs!$G$29*(1+Inputs!$G$14)^(H$3-1),0) -> 81149.185 | I20: =IF(AND(I$4,I$3>0),(Inputs!$G$16*Inputs!$G$33+Inputs!$G$34)*Inputs!$G$29*(1+Inputs!$G$14)^(I$3-1),0) -> 83583.661 | ... AA20: =IF(AND(AA$4,AA$3>0),(Inputs!$G$16*Inputs!$G$33+Inputs!$G$34)*Inputs!$G$29*(1+Inputs!$G$14)^(AA$3-1),0) -> 142295.59
A21: Labour / management cost (€) | B21: =IF(AND(B$4,B$3>0),Inputs!$G$30*(1+Inputs!$G$14)^(B$3-1),0) -> 0 | C21: =IF(AND(C$4,C$3>0),Inputs!$G$30*(1+Inputs!$G$14)^(C$3-1),0) -> 35000 | D21: =IF(AND(D$4,D$3>0),Inputs!$G$30*(1+Inputs!$G$14)^(D$3-1),0) -> 36050 | E21: =IF(AND(E$4,E$3>0),Inputs!$G$30*(1+Inputs!$G$14)^(E$3-1),0) -> 37131.5 | F21: =IF(AND(F$4,F$3>0),Inputs!$G$30*(1+Inputs!$G$14)^(F$3-1),0) -> 38245.445 | G21: =IF(AND(G$4,G$3>0),Inputs!$G$30*(1+Inputs!$G$14)^(G$3-1),0) -> 39392.808 | H21: =IF(AND(H$4,H$3>0),Inputs!$G$30*(1+Inputs!$G$14)^(H$3-1),0) -> 40574.593 | I21: =IF(AND(I$4,I$3>0),Inputs!$G$30*(1+Inputs!$G$14)^(I$3-1),0) -> 41791.83 | ... AA21: =IF(AND(AA$4,AA$3>0),Inputs!$G$30*(1+Inputs!$G$14)^(AA$3-1),0) -> 71147.794
A22: Insurance, permits, testing (€) | B22: =IF(AND(B$4,B$3>0),Inputs!$G$31*(1+Inputs!$G$14)^(B$3-1),0) -> 0 | C22: =IF(AND(C$4,C$3>0),Inputs!$G$31*(1+Inputs!$G$14)^(C$3-1),0) -> 12000 | D22: =IF(AND(D$4,D$3>0),Inputs!$G$31*(1+Inputs!$G$14)^(D$3-1),0) -> 12360 | E22: =IF(AND(E$4,E$3>0),Inputs!$G$31*(1+Inputs!$G$14)^(E$3-1),0) -> 12730.8 | F22: =IF(AND(F$4,F$3>0),Inputs!$G$31*(1+Inputs!$G$14)^(F$3-1),0) -> 13112.724 | G22: =IF(AND(G$4,G$3>0),Inputs!$G$31*(1+Inputs!$G$14)^(G$3-1),0) -> 13506.106 | H22: =IF(AND(H$4,H$3>0),Inputs!$G$31*(1+Inputs!$G$14)^(H$3-1),0) -> 13911.289 | I22: =IF(AND(I$4,I$3>0),Inputs!$G$31*(1+Inputs!$G$14)^(I$3-1),0) -> 14328.628 | ... AA22: =IF(AND(AA$4,AA$3>0),Inputs!$G$31*(1+Inputs!$G$14)^(AA$3-1),0) -> 24393.529
A23: Digestate storage/spreading cost (€) | B23: =IF(AND(B$4,B$3>0),Inputs!$G$32*(1+Inputs!$G$14)^(B$3-1),0) -> 0 | C23: =IF(AND(C$4,C$3>0),Inputs!$G$32*(1+Inputs!$G$14)^(C$3-1),0) -> 20000 | D23: =IF(AND(D$4,D$3>0),Inputs!$G$32*(1+Inputs!$G$14)^(D$3-1),0) -> 20600 | E23: =IF(AND(E$4,E$3>0),Inputs!$G$32*(1+Inputs!$G$14)^(E$3-1),0) -> 21218 | F23: =IF(AND(F$4,F$3>0),Inputs!$G$32*(1+Inputs!$G$14)^(F$3-1),0) -> 21854.54 | G23: =IF(AND(G$4,G$3>0),Inputs!$G$32*(1+Inputs!$G$14)^(G$3-1),0) -> 22510.176 | H23: =IF(AND(H$4,H$3>0),Inputs!$G$32*(1+Inputs!$G$14)^(H$3-1),0) -> 23185.481 | I23: =IF(AND(I$4,I$3>0),Inputs!$G$32*(1+Inputs!$G$14)^(I$3-1),0) -> 23881.046 | ... AA23: =IF(AND(AA$4,AA$3>0),Inputs!$G$32*(1+Inputs!$G$14)^(AA$3-1),0) -> 40655.882
A24: Reduced existing returns (€) | B24: =IF(AND(B$4,B$3>0),Inputs!$G$40*(1+Inputs!$G$14)^(B$3-1),0) -> 0 | C24: =IF(AND(C$4,C$3>0),Inputs!$G$40*(1+Inputs!$G$14)^(C$3-1),0) -> 0 | D24: =IF(AND(D$4,D$3>0),Inputs!$G$40*(1+Inputs!$G$14)^(D$3-1),0) -> 0 | E24: =IF(AND(E$4,E$3>0),Inputs!$G$40*(1+Inputs!$G$14)^(E$3-1),0) -> 0 | F24: =IF(AND(F$4,F$3>0),Inputs!$G$40*(1+Inputs!$G$14)^(F$3-1),0) -> 0 | G24: =IF(AND(G$4,G$3>0),Inputs!$G$40*(1+Inputs!$G$14)^(G$3-1),0) -> 0 | H24: =IF(AND(H$4,H$3>0),Inputs!$G$40*(1+Inputs!$G$14)^(H$3-1),0) -> 0 | I24: =IF(AND(I$4,I$3>0),Inputs!$G$40*(1+Inputs!$G$14)^(I$3-1),0) -> 0 | ... AA24: =IF(AND(AA$4,AA$3>0),Inputs!$G$40*(1+Inputs!$G$14)^(AA$3-1),0) -> 0
A25: Major overhaul (€) | B25: =IF(AND(B$4,B$3=Inputs!$G$37,Inputs!$G$37>0),Inputs!$G$38*(1+Inputs!$G$14)^MAX(B$3-1,0),0) -> 0 | C25: =IF(AND(C$4,C$3=Inputs!$G$37,Inputs!$G$37>0),Inputs!$G$38*(1+Inputs!$G$14)^MAX(C$3-1,0),0) -> 0 | D25: =IF(AND(D$4,D$3=Inputs!$G$37,Inputs!$G$37>0),Inputs!$G$38*(1+Inputs!$G$14)^MAX(D$3-1,0),0) -> 0 | E25: =IF(AND(E$4,E$3=Inputs!$G$37,Inputs!$G$37>0),Inputs!$G$38*(1+Inputs!$G$14)^MAX(E$3-1,0),0) -> 0 | F25: =IF(AND(F$4,F$3=Inputs!$G$37,Inputs!$G$37>0),Inputs!$G$38*(1+Inputs!$G$14)^MAX(F$3-1,0),0) -> 0 | G25: =IF(AND(G$4,G$3=Inputs!$G$37,Inputs!$G$37>0),Inputs!$G$38*(1+Inputs!$G$14)^MAX(G$3-1,0),0) -> 0 | H25: =IF(AND(H$4,H$3=Inputs!$G$37,Inputs!$G$37>0),Inputs!$G$38*(1+Inputs!$G$14)^MAX(H$3-1,0),0) -> 0 | I25: =IF(AND(I$4,I$3=Inputs!$G$37,Inputs!$G$37>0),Inputs!$G$38*(1+Inputs!$G$14)^MAX(I$3-1,0),0) -> 0 | ... AA25: =IF(AND(AA$4,AA$3=Inputs!$G$37,Inputs!$G$37>0),Inputs!$G$38*(1+Inputs!$G$14)^MAX(AA$3-1,0),0) -> 0
A26: Total costs (€) | B26: =SUM(B19:B25) -> 0 | C26: =SUM(C19:C25) -> 187000 | D26: =SUM(D19:D25) -> 192610 | E26: =SUM(E19:E25) -> 198388.3 | F26: =SUM(F19:F25) -> 204339.95 | G26: =SUM(G19:G25) -> 210470.15 | H26: =SUM(H19:H25) -> 216784.25 | I26: =SUM(I19:I25) -> 223287.78 | ... AA26: =SUM(AA19:AA25) -> 380132.5
A28: Net operating cashflow (€) | B28: =B17-B26 -> 0 | C28: =C17-C26 -> 123250 | D28: =D17-D26 -> 125530 | E28: =E17-E26 -> 127850.05 | F28: =F17-F26 -> 130210.78 | G28: =G17-G26 -> 132612.85 | H28: =H17-H26 -> 135056.88 | I28: =I17-I26 -> 137543.56 | ... AA28: =AA17-AA26 -> 190389.29
A29: Capital cashflow (€) | B29: =IF(B$3=0,-((Inputs!$G$16*Inputs!$G$33+Inputs!$G$34+Inputs!$G$36)-Inputs!$G$35*(Inputs!$G$16*Inputs!$G$33+Inputs!$G$34)),0) -> -1170000 | C29: =IF(C$3=0,-((Inputs!$G$16*Inputs!$G$33+Inputs!$G$34+Inputs!$G$36)-Inputs!$G$35*(Inputs!$G$16*Inputs!$G$33+Inputs!$G$34)),0) -> 0 | D29: =IF(D$3=0,-((Inputs!$G$16*Inputs!$G$33+Inputs!$G$34+Inputs!$G$36)-Inputs!$G$35*(Inputs!$G$16*Inputs!$G$33+Inputs!$G$34)),0) -> 0 | E29: =IF(E$3=0,-((Inputs!$G$16*Inputs!$G$33+Inputs!$G$34+Inputs!$G$36)-Inputs!$G$35*(Inputs!$G$16*Inputs!$G$33+Inputs!$G$34)),0) -> 0 | F29: =IF(F$3=0,-((Inputs!$G$16*Inputs!$G$33+Inputs!$G$34+Inputs!$G$36)-Inputs!$G$35*(Inputs!$G$16*Inputs!$G$33+Inputs!$G$34)),0) -> 0 | G29: =IF(G$3=0,-((Inputs!$G$16*Inputs!$G$33+Inputs!$G$34+Inputs!$G$36)-Inputs!$G$35*(Inputs!$G$16*Inputs!$G$33+Inputs!$G$34)),0) -> 0 | H29: =IF(H$3=0,-((Inputs!$G$16*Inputs!$G$33+Inputs!$G$34+Inputs!$G$36)-Inputs!$G$35*(Inputs!$G$16*Inputs!$G$33+Inputs!$G$34)),0) -> 0 | I29: =IF(I$3=0,-((Inputs!$G$16*Inputs!$G$33+Inputs!$G$34+Inputs!$G$36)-Inputs!$G$35*(Inputs!$G$16*Inputs!$G$33+Inputs!$G$34)),0) -> 0 | ... AA29: =IF(AA$3=0,-((Inputs!$G$16*Inputs!$G$33+Inputs!$G$34+Inputs!$G$36)-Inputs!$G$35*(Inputs!$G$16*Inputs!$G$33+Inputs!$G$34)),0) -> 0
A30: Net cashflow (€) | B30: =B28+B29 -> -1170000 | C30: =C28+C29 -> 123250 | D30: =D28+D29 -> 125530 | E30: =E28+E29 -> 127850.05 | F30: =F28+F29 -> 130210.78 | G30: =G28+G29 -> 132612.85 | H30: =H28+H29 -> 135056.88 | I30: =I28+I29 -> 137543.56 | ... AA30: =AA28+AA29 -> 190389.29
A31: Discount factor | B31: =IF(B$4,1/(1+Inputs!$G$10)^B$3,0) -> 1 | C31: =IF(C$4,1/(1+Inputs!$G$10)^C$3,0) -> 0.96153846 | D31: =IF(D$4,1/(1+Inputs!$G$10)^D$3,0) -> 0.92455621 | E31: =IF(E$4,1/(1+Inputs!$G$10)^E$3,0) -> 0.88899636 | F31: =IF(F$4,1/(1+Inputs!$G$10)^F$3,0) -> 0.85480419 | G31: =IF(G$4,1/(1+Inputs!$G$10)^G$3,0) -> 0.82192711 | H31: =IF(H$4,1/(1+Inputs!$G$10)^H$3,0) -> 0.79031453 | I31: =IF(I$4,1/(1+Inputs!$G$10)^I$3,0) -> 0.75991781 | ... AA31: =IF(AA$4,1/(1+Inputs!$G$10)^AA$3,0) -> 0.3751168
A32: Discounted cashflow (€) | B32: =B30*B31 -> -1170000 | C32: =C30*C31 -> 118509.62 | D32: =D30*D31 -> 116059.54 | E32: =E30*E31 -> 113658.23 | F32: =F30*F31 -> 111304.72 | G32: =G30*G31 -> 108998.09 | H32: =H30*H31 -> 106737.42 | I32: =I30*I31 -> 104521.8 | ... AA32: =AA30*AA31 -> 71418.221
A33: Cumulative cashflow (€) | B33: =B30 -> -1170000 | C33: =B33+C30 -> -1046750 | D33: =C33+D30 -> -921220 | E33: =D33+E30 -> -793369.95 | F33: =E33+F30 -> -663159.17 | G33: =F33+G30 -> -530546.32 | H33: =G33+H30 -> -395489.44 | I33: =H33+I30 -> -257945.88 | J33: =I33+J30 -> -117872.35 | ... AA33: =Z33+AA30 -> 2532701.9

Sheet Summary
A1: Farm Biogas Plant – Partial Budget Summary
A3: Selected scenario | B3: =Inputs!B5 -> Base | D3: Year 1 partial budget view
D4: Benefits | E4: €
A5: Gross investment | B5: =Inputs!B45 -> 1450000 | D5: Added returns | E5: =Calculations!C11+Calculations!C13+Calculations!C14+Calculations!C15 -> 216750
A6: Grant amount | B6: =Inputs!B46 -> 280000 | D6: Reduced costs | E6: =Calculations!C10+Calculations!C12+Calculations!C16 -> 93500
A7: Net upfront cost | B7: =Inputs!B47 -> 1170000 | D7: Total benefits | E7: =SUM(E5:E6) -> 310250
A8: Year 1 total benefits | B8: =Calculations!C17 -> 310250
A9: Year 1 total costs | B9: =Calculations!C26 -> 187000 | D9: Costs | E9: €
A10: Year 1 net annual change | B10: =Calculations!C28 -> 123250 | D10: Added costs | E10: =Calculations!C19+Calculations!C20+Calculations!C21+Calculations!C22+Calculations!C23+Calculations!C25 -> 187000
A11: NPV for 25 years | B11: =SUM(Calculations!B32:AA32) -> 1048547.3 | D11: Reduced returns | E11: =Calculations!C24 -> 0
A12: Simple payback year | B12: =IF(MAX(Calculations!B33:AA33)<0,"Not paid back",_xlfn.MINIFS(Calculations!B3:AA3,Calculations!B33:AA33,">=0")) -> 9 | D12: Total costs | E12: =SUM(E10:E11) -> 187000
A13: Total undiscounted net cashflow | B13: =SUM(Calculations!B30:AA30) -> 2532701.9 | D13: Net annual change | E13: =E7-E12 -> 123250
A14: Benefit-cost ratio (discounted) | B14: =IF(SUMPRODUCT(Calculations!B26:AA26,Calculations!B31:AA31)=0,"",SUMPRODUCT(Calculations!B17:AA17,Calculations!B31:AA31)/SUMPRODUCT(Calculations!B26:AA26,Calculations!B31:AA31)) -> 1.5380917
A17: Year | B17: Net cashflow | C17: Cumulative cashflow
A18: =Calculations!B$3 -> 0 | B18: =Calculations!B$30 -> -1170000 | C18: =Calculations!B$33 -> -1170000
A19: =Calculations!C$3 -> 1 | B19: =Calculations!C$30 -> 123250 | C19: =Calculations!C$33 -> -1046750
A20: =Calculations!D$3 -> 2 | B20: =Calculations!D$30 -> 125530 | C20: =Calculations!D$33 -> -921220
A21: =Calculations!E$3 -> 3 | B21: =Calculations!E$30 -> 127850.05 | C21: =Calculations!E$33 -> -793369.95
A22: =Calculations!F$3 -> 4 | B22: =Calculations!F$30 -> 130210.78 | C22: =Calculations!F$33 -> -663159.17
A23: =Calculations!G$3 -> 5 | B23: =Calculations!G$30 -> 132612.85 | C23: =Calculations!G$33 -> -530546.32
A24: =Calculations!H$3 -> 6 | B24: =Calculations!H$30 -> 135056.88 | C24: =Calculations!H$33 -> -395489.44
A25: =Calculations!I$3 -> 7 | B25: =Calculations!I$30 -> 137543.56 | C25: =Calculations!I$33 -> -257945.88
A26: =Calculations!J$3 -> 8 | B26: =Calculations!J$30 -> 140073.53 | C26: =Calculations!J$33 -> -117872.35
A27: =Calculations!K$3 -> 9 | B27: =Calculations!K$30 -> 142647.47 | C27: =Calculations!K$33 -> 24775.117
A28: =Calculations!L$3 -> 10 | B28: =Calculations!L$30 -> -17830.58 | C28: =Calculations!L$33 -> 6944.5365
A29: =Calculations!M$3 -> 11 | B29: =Calculations!M$30 -> 147930.01 | C29: =Calculations!M$33 -> 154874.54
A30: =Calculations!N$3 -> 12 | B30: =Calculations!N$30 -> 150639.98 | C30: =Calculations!N$33 -> 305514.52
A31: =Calculations!O$3 -> 13 | B31: =Calculations!O$30 -> 153396.7 | C31: =Calculations!O$33 -> 458911.22
A32: =Calculations!P$3 -> 14 | B32: =Calculations!P$30 -> 156200.87 | C32: =Calculations!P$33 -> 615112.09
A33: =Calculations!Q$3 -> 15 | B33: =Calculations!Q$30 -> 159053.2 | C33: =Calculations!Q$33 -> 774165.29
A34: =Calculations!R$3 -> 16 | B34: =Calculations!R$30 -> 161954.44 | C34: =Calculations!R$33 -> 936119.73
A35: =Calculations!S$3 -> 17 | B35: =Calculations!S$30 -> 164905.3 | C35: =Calculations!S$33 -> 1101025
A36: =Calculations!T$3 -> 18 | B36: =Calculations!T$30 -> 167906.54 | C36: =Calculations!T$33 -> 1268931.6
A37: =Calculations!U$3 -> 19 | B37: =Calculations!U$30 -> 170958.89 | C37: =Calculations!U$33 -> 1439890.5
A38: =Calculations!V$3 -> 20 | B38: =Calculations!V$30 -> 174063.12 | C38: =Calculations!V$33 -> 1613953.6
A39: =Calculations!W$3 -> 21 | B39: =Calculations!W$30 -> 177219.99 | C39: =Calculations!W$33 -> 1791173.6
A40: =Calculations!X$3 -> 22 | B40: =Calculations!X$30 -> 180430.25 | C40: =Calculations!X$33 -> 1971603.8
A41: =Calculations!Y$3 -> 23 | B41: =Calculations!Y$30 -> 183694.71 | C41: =Calculations!Y$33 -> 2155298.5
A42: =Calculations!Z$3 -> 24 | B42: =Calculations!Z$30 -> 187014.12 | C42: =Calculations!Z$33 -> 2342312.7
A43: =Calculations!AA$3 -> 25 | B43: =Calculations!AA$30 -> 190389.29 | C43: =Calculations!AA$33 -> 2532701.9
